BEGIN:VCALENDAR
VERSION:2.0
METHOD:PUBLISH
PRODID:-//Agenda.ad//NONSGML v1.0//EN
BEGIN:VEVENT
CLASS:PUBLIC
UID:dc57b5723504dae8d8707449404b4cbe@agenda.ad
DTSTAMP:20260424T095351Z
DTSTART:20200117T230000Z
DTEND:20200117T230000Z
SUMMARY:<p>DISSABTES D&rsquo;ART &middot;&nbsp;GIMENO VERSUS CASAS. Dos pintors oposats</p>
DESCRIPTION:\n\nMés informació\nhttps://www.agenda.ad/activitat/escald
 es-engordany/activitats-infantils/dissabtes-dart- gimeno-ve
 rsus-casas-dos-pintors-oposats\n\n\nOrganitza\nComú d'Escal
 des-Engordany
LOCATION:Centre d'Art d'Escaldes-Engordany
SEQUENCE:0
TRANSP:OPAQUE
X-ALT-DESC;FMTTYPE=text/html:<!DOCTYPE HTML PUBLIC "-//W3C//DTD HTML 3.2//EN"><HTML><HEAD
 ><TITLE></TITLE></HEAD><BODY><FONT FACE="Arial" SIZE=2><br/>
 <br/><b>Més informació</b><br/><a href="https://www.agenda
 .ad/activitat/escaldes-engordany/activitats-infantils/dissab
 tes-dart- gimeno-versus-casas-dos-pintors-oposats">https://
 www.agenda.ad/activitat/escaldes-engordany/activitats-infant
 ils/dissabtes-dart- gimeno-versus-casas-dos-pintors-oposats
 </a><br/><br/><br/><b>Organitza</b><br/>Comú d'Escaldes-Eng
 ordany</FONT></BODY></HTML>
END:VEVENT
END:VCALENDAR